BEGIN:VCALENDAR
VERSION:2.0
PRODID:-//ChamberMaster//Event Calendar 2.0//EN
METHOD:PUBLISH
X-PUBLISHED-TTL:P3D
REFRESH-INTERVAL:P3D
CALSCALE:GREGORIAN
BEGIN:VEVENT
DTSTART:20190124T150000Z
DTEND:20190124T163000Z
X-MICROSOFT-CDO-ALLDAYEVENT:FALSE
SUMMARY:In The Know
DESCRIPTION:Join us for our In The Know Series as we discuss Utah's current air quality situation. We will have a panel of individuals that will help us understand what is being done on the legislative side\, current campaigns to improve air quality\, and what we can do as the public. Bring your questions! A light breakfast will be served.
X-ALT-DESC;FMTTYPE=text/html:<span style="font-family: &quot\;Neue Plak&quot\;\, -apple-system\, BlinkMacSystemFont\, Roboto\, &quot\;Helvetica Neue&quot\;\, Helvetica\, Tahoma\, Arial\, sans-serif\; font-size: 15px\; letter-spacing: 0.5px\; background-color: rgb(255\, 255\, 255)\;">Join us for our In The Know Series as we discuss Utah&#39\;s current air quality situation. We will have a panel of individuals that will help us understand what is being done on the legislative side\, current campaigns to improve air quality\, and what we can do as the public. Bring your questions! A light breakfast will be served.</span>
LOCATION:Scheels 11282 S State St Sandy Utah\, 84070
UID:e.1263.11439
SEQUENCE:3
DTSTAMP:20260421T080447Z
URL:http://sandychamber.chambermaster.com/events/details/in-the-know-11439
END:VEVENT

END:VCALENDAR
