BEGIN:VCALENDAR
VERSION:2.0
PRODID:-//ChamberMaster//Event Calendar 2.0//EN
METHOD:PUBLISH
X-PUBLISHED-TTL:P3D
REFRESH-INTERVAL:P3D
CALSCALE:GREGORIAN
BEGIN:VEVENT
DTSTART:20251111T020000Z
DTEND:20251111T030000Z
X-MICROSOFT-CDO-ALLDAYEVENT:FALSE
SUMMARY:Riverton Veterans Day Program 2025
DESCRIPTION:Veterans Day Program\n\n\n\nAll are invited to join us for the free annual Riverton City Veterans Day Program\, a special event where we come together to honor and show our appreciation for the veterans of the United States military. Patriotic music will be performed by the Riverton Jazz Band\, and refreshments will be available at the conclusion of the event.\n\n\n\nDate: Monday\, November 10\, 2025\n\nTime: 7 p.m.\n\nLocation: Sandra Lloyd Community Center | 12830 S Redwood Road\, Riverton\, UT 84096
X-ALT-DESC;FMTTYPE=text/html:<p style="box-sizing: border-box\; margin: 0px 0px 30px\; color: rgb(99\, 113\, 122)\; font-family: Poppins\, sans-serif\; font-size: 15px\;"><span style="font-size:18px\;"><span style="color:#000000\;"><strong><span style="font-family:arial\;">Veterans Day Program</span></strong></span></span><br />\n<br />\n<span style="color: rgb(99\, 113\, 122)\; font-family: Poppins\, sans-serif\; font-size: 15px\;">All are invited to join us for the free annual Riverton City Veterans Day Program\, a special event where we come together to honor and show our appreciation for the veterans of the United States military. Patriotic music will be performed by the Riverton Jazz Band\, and refreshments will be available at the conclusion of the event.</span><br style="box-sizing: border-box\; color: rgb(99\, 113\, 122)\; font-family: Poppins\, sans-serif\; font-size: 15px\;" />\n<br style="box-sizing: border-box\; color: rgb(99\, 113\, 122)\; font-family: Poppins\, sans-serif\; font-size: 15px\;" />\n<strong style="box-sizing: border-box\; color: rgb(99\, 113\, 122)\; font-family: Poppins\, sans-serif\; font-size: 15px\;">Date:&nbsp\;</strong><span style="color: rgb(99\, 113\, 122)\; font-family: Poppins\, sans-serif\; font-size: 15px\;">Monday\, November 10\, 2025</span><br style="box-sizing: border-box\; color: rgb(99\, 113\, 122)\; font-family: Poppins\, sans-serif\; font-size: 15px\;" />\n<strong style="box-sizing: border-box\; color: rgb(99\, 113\, 122)\; font-family: Poppins\, sans-serif\; font-size: 15px\;">Time:</strong><span style="color: rgb(99\, 113\, 122)\; font-family: Poppins\, sans-serif\; font-size: 15px\;">&nbsp\;7 p.m.</span><br style="box-sizing: border-box\; color: rgb(99\, 113\, 122)\; font-family: Poppins\, sans-serif\; font-size: 15px\;" />\n<strong style="box-sizing: border-box\; color: rgb(99\, 113\, 122)\; font-family: Poppins\, sans-serif\; font-size: 15px\;">Location:</strong><span style="color: rgb(99\, 113\, 122)\; font-family: Poppins\, sans-serif\; font-size: 15px\;">&nbsp\;Sandra Lloyd Community Center | 12830 S Redwood Road\, Riverton\, UT 84096</span></p>\n
LOCATION:Monday\, November 10\, 2025 | 7 p.m.
UID:e.1263.15159
SEQUENCE:3
DTSTAMP:20260421T053747Z
URL:http://sandychamber.chambermaster.com/events/details/riverton-veterans-day-program-2025-15159
END:VEVENT

END:VCALENDAR
